BEGIN:VCALENDAR
VERSION:2.0
PRODID:-//wp-events-plugin.com//7.2.3.1//EN
TZID:Europe/Berlin
X-WR-TIMEZONE:Europe/Berlin
BEGIN:VEVENT
UID:151@k-is.com
DTSTART;TZID=Europe/Berlin:20260609T110000
DTEND;TZID=Europe/Berlin:20260609T113000
DTSTAMP:20260415T143143Z
URL:https://www.k-is.com/termine/steadyprint-spotlight-folge12-e-rechnung/
SUMMARY:steadyPRINT SPOTLIGHT Folge 12: E-Rechnung
DESCRIPTION:\nsteadyPRINT SPOTLIGHT Folge 12: E-Rechnung | Webcast | 09.06.
 2026\, 11:00 Uhr \nWir freuen uns\, Ihnen heute die 12. Ausgabe unserer W
 ebcast-Reihe "steadyPRINT SPOTLIGHT – Features im Fokus" vorstellen zu
  dürfen.\n\nsteadyPRINT wird zukünftig in der Lage sein\, E-Rechnungen a
 us einem PDF zu erstellen.\n\nDafür wird eine Workflow-Aktion integriert\
 , die das Ausgangsformat (ZUGFeRD\, X-Rechnung) verarbeitet. Die Workflow-
 Aktion selbst besitzt einen Standard\, nach dem ein Dokument nach den erfo
 rderlichen Informationen durchsucht wird. Darüber hinaus ist pro Kunde ei
 n speziell auf ihn abgestimmtes Parsing-Modul für die PDF-Rechnungen übe
 r ein Interface integrierbar\, welches die Workflow-Aktion dann zur Auswah
 l anbietet. Zudem können über weitere bestehende Aktionen Informationen 
 in den Workflow eingebracht werden\, um diese bei der E-Rechnungserstellun
 g zu verarbeiten.\n\nUnsere Experten zeigen Ihnen\, welche Möglichkeiten 
 Ihnen mit dem Modul steadyPRINT E-Rechnung zur Verfügung stehen und wie d
 iese Ihren Arbeitsalltag erleichtern.\nMelden Sie sich am besten jetzt an\
 , es lohnt sich!\nSpeaker: Dennis Bruch (Software Developer)\n\nBitte beac
 hten Sie\, dass die Teilnahme nur für Firmenkunden möglich ist und wir u
 ns vorbehalten\, Anmeldungen im Zweifelsfall zu stornieren. || Eine Verans
 taltung der K-iS Systemhaus Unternehmensgruppe || www.k-is.com\nHier geht'
 s zur Anmeldung!
ATTACH;FMTTYPE=image/jpeg:https://www.k-is.com/wp-content/uploads/2302-Hea
 der_TechnHop-special.jpg
CATEGORIES:Events,Webinare
END:VEVENT
BEGIN:VTIMEZONE
TZID:Europe/Berlin
X-LIC-LOCATION:Europe/Berlin
BEGIN:DAYLIGHT
DTSTART:20260329T030000
TZOFFSETFROM:+0100
TZOFFSETTO:+0200
TZNAME:CEST
END:DAYLIGHT
END:VTIMEZONE
END:VCALENDAR