BEGIN:VCALENDAR
VERSION:2.0
PRODID:-//wp-events-plugin.com//7.2.3.1//EN
TZID:Europe/Berlin
X-WR-TIMEZONE:Europe/Berlin
BEGIN:VEVENT
UID:71@k-is.com
DTSTART;TZID=Europe/Berlin:20190125T103000
DTEND;TZID=Europe/Berlin:20190125T110000
DTSTAMP:20190121T064131Z
URL:https://www.k-is.com/termine/steadyprint-release-webinar-7-6/
SUMMARY:steadyPRINT Release-Webinar zu Version 7.6
DESCRIPTION:\nsteadyPRINT Release-Webinar v7.6| 25.01.2019\n[av_hr class='d
 efault' height='50' shadow='no-shadow' position='center' custom_border='av
 -border-thin' custom_width='50px' custom_border_color='' custom_margin_top
 ='30px' custom_margin_bottom='30px' icon_select='yes' custom_icon_color=''
  icon='ue808' font='entypo-fontello' admin_preview_bg='']\n\n[av_one_half 
 first]\n\nsteadyPRINT 7.6: Besser drucken für alle!\nEs ist so weit: stea
 dyPRINT 7.6 ist da! Ab jetzt heißt es "besser drucken für alle!" Erleben
  Sie die NEUE Version live und profitieren Sie von noch mehr Möglichkeite
 n!\nDas Webinar wird über GoToWebinar durchgeführt\, den Link zur Anmeld
 ung finden Sie hier!\n[/av_one_half][av_one_half]\n\n[av_toggle_container 
 initial='0' mode='accordion' sort='' styling='av-minimal-toggle' colors='c
 ustom' font_color='#666666' background_color='#ffffff' border_color='#ffff
 ff']\n[av_toggle title='Themen' tags='']\nUser Print Templates:\nUser kön
 nen individuelle Print Templates mit ihren bevorzugten Druckeinstellungen 
 anlegen - auch für verschiedene Szenarien.\n\nPrinter Finder:\nAdmins kö
 nnen Tags für verschiedene Objekte (Druckserver\, Ordner\, Drucker) Ihrer
  Druckumgebung vergeben. Zusätzlich werden alle Funktionen eines Druckers
  automatisch als Tags hinterlegt. Durch neue Suchfunktionen für User und 
 Admins findet jeder immer den passenden Drucker.\n\nManagement Board for T
 emplates & Printer Features:\nVereinfachte und übersichtliche Verwaltung 
 der Templates\, Features und Finishing-Optionen für die Administration du
 rch neue Oberflächen.\n\nvName Backup-Printer:\nHinterlegen Sie für eine
 n vName-Drucker in einer Spezialapplikation mehrere Zuweisungen\, sodass S
 ie beim Druckerausfall sofort einen Ersatzdrucker auswählen können.\n\nP
 erformance\, Stability und weitere Verbesserungen:\nMehr Speeeeed\, mehr S
 tabilität: Um die Arbeit mit steadyPRINT noch komfortabler zu gestalten\,
  haben wir auch unter der Haube einiges verbessert.\n\nWas ändert sich be
 i der Lizenzierung?\n[/av_toggle]\n[/av_toggle_container][/av_one_half]
CATEGORIES:Webinare
END:VEVENT
BEGIN:VTIMEZONE
TZID:Europe/Berlin
X-LIC-LOCATION:Europe/Berlin
BEGIN:STANDARD
DTSTART:20181028T020000
TZOFFSETFROM:+0200
TZOFFSETTO:+0100
TZNAME:CET
END:STANDARD
END:VTIMEZONE
END:VCALENDAR