BEGIN:VCALENDAR
VERSION:2.0
PRODID:-//wp-events-plugin.com//7.2.3.1//EN
TZID:Europe/Berlin
X-WR-TIMEZONE:Europe/Berlin
BEGIN:VEVENT
UID:2@k-is.com
DTSTART;TZID=Europe/Berlin:20180306T090000
DTEND;TZID=Europe/Berlin:20180307T170000
DTSTAMP:20180223T113129Z
URL:https://www.k-is.com/termine/steadyprint-basic-training-2-tage/
SUMMARY:steadyPRINT Basic Training (2 Tage)
DESCRIPTION:[half]NEU: Das Basic Training für Drucker-Admins in Theorie un
 d Praxis.\n\nLernen Sie den optimalen Umgang mit steadyPRINT kennen - ange
 fangen bei den Grundlagen eines Druckservers über die Installation und Ei
 nrichtung von steadyPRINT bis hin zu Spezialthemen wie VPD Basic und Ausfa
 llsicherheit.\n\nPreis für das 2-tägige Training: 1.390\,00 €\nDas Bas
 ic Trainings kann auch mit dem Advanced Training kombiniert werden - Preis
  für das 4-tägige Training: 1.990\,00 €\n[/half][half]\n[sections coll
 apse="always"]\n[section title="Trainingsinhalt"]\nDruckserver:\n\n\n 	Auf
 gaben\n 	Verwaltung von Druckern\n 	Technischer Hintergrund\n 	Einrichtung
  von Druckservern\n 	Known Issues und Troubleshooting\n\nsteadyPRINT:\n\n 
 	Was ist steadyPRINT?\n\n 	Funktionsweise\n 	Komponenten\n 	Architektur\n\
 n\n 	Installation\n 	Zentrale Verwaltung\n\n 	Organisation\n 	Netzwerkdruc
 ker\n 	Branch Office-Drucker\n 	Lokale Drucker\n 	Standarddrucker\n 	Druck
 erzuweisungen\n 	Delegierte Administration\n 	Mandantenfähigkeit\n 	Mobil
 e Administration\n\n\n 	User Self Service\n\n 	Verwaltung durch Benutzer\n
  	Funktionen\n 	Einstellungsprofile\n\n\n 	VPD Basic (vPrinter\, vDirect\,
  SecurePrint)\n\n 	Funktionsweise\n 	Einrichtung\n 	Konfiguration\n\n\n 	A
 usfallsicherheit\n\n[/section]\n[/sections]\n[/half][full][/full]
END:VEVENT
BEGIN:VTIMEZONE
TZID:Europe/Berlin
X-LIC-LOCATION:Europe/Berlin
BEGIN:STANDARD
DTSTART:20171029T020000
TZOFFSETFROM:+0200
TZOFFSETTO:+0100
TZNAME:CET
END:STANDARD
END:VTIMEZONE
END:VCALENDAR