BEGIN:VCALENDAR
VERSION:2.0
PRODID:-//wp-events-plugin.com//7.2.3.1//EN
TZID:Europe/Berlin
X-WR-TIMEZONE:Europe/Berlin
BEGIN:VEVENT
UID:89@k-is.com
DTSTART;TZID=Europe/Berlin:20200616T110000
DTEND;TZID=Europe/Berlin:20200616T114500
DTSTAMP:20200603T115252Z
URL:https://www.k-is.com/termine/sexy-desktop-was-wir-anders-machen-igel-c
 ase-study-und-mehr/
SUMMARY:SEXY Desktop: Was wir anders machen. IGEL Case Study und mehr...
DESCRIPTION:\n\nArbeiten soll Spaß machen! Und darauf haben wir als IT-Die
 nstleister einen nicht zu unterschätzenden Einfluss. Denn eins ist klar: 
 Die Kundenumgebung muss funktionieren. Aber ist das schon alles…? In uns
 erem kostenlosen Webcast zeigen wir Ihnen anhand eines Beispiels aus der P
 raxis\, dass da tatsächlich noch viel mehr ist.\n\nNach einer neuen Citri
 x-Installation suchte unser Kunde Start NRW eine Lösung für optimales Th
 in Client Computing. Mit den Lösungen von IGEL konnten alle Anforderungen
  erfüllt und die Erwartungen sogar noch übertroffen werden. Hier ging es
  nicht nur um die Reduzierung des administrativen Aufwands und den Schutz 
 sensibler Daten\, sondern ebenso um einen deutlich höheren Anwenderkomfor
 t.\n\nZusammen mit Jens Hübener (Start NRW) plaudern die K-iS-Experten Sv
 en Berg (Senior Consultant\, IGEL Community Member) und Marcus Bangert (Se
 nior Account Manager) ein bisschen aus dem Nähkästchen und geben Einblic
 ke in unsere Arbeitsweise.\n\nDarüber hinaus nimmt unser Team das neue IG
 EL OS 11 und den neuen IGEL UD3 unter die Lupe und präsentiert die aktuel
 len IGEL-Promos.\n\n[av_button_big label='Jetzt anmelden!' description_pos
 ='below' icon_select='no' icon='ue812' font='entypo-fontello' title_attr='
 ' color='custom' custom_bg='#00b0f0' color_hover='theme-color-highlight' c
 ustom_bg_hover='#444444' custom_font='#002744' link='manually\,https://reg
 ister.gotowebinar.com/register/312646538675125007' link_target='_blank' id
 ='' custom_class='' av_uid='av-25wrhi' admin_preview_bg=''][/av_button_big
 ]
CATEGORIES:Webinare
END:VEVENT
BEGIN:VTIMEZONE
TZID:Europe/Berlin
X-LIC-LOCATION:Europe/Berlin
BEGIN:DAYLIGHT
DTSTART:20200329T030000
TZOFFSETFROM:+0100
TZOFFSETTO:+0200
TZNAME:CEST
END:DAYLIGHT
END:VTIMEZONE
END:VCALENDAR