BEGIN:VCALENDAR
VERSION:2.0
PRODID:-//wp-events-plugin.com//7.2.3.1//EN
TZID:Europe/Berlin
X-WR-TIMEZONE:Europe/Berlin
BEGIN:VEVENT
UID:79@k-is.com
DTSTART;TZID=Europe/Berlin:20190828T090000
DTEND;TZID=Europe/Berlin:20190828T150000
DTSTAMP:20190717T115149Z
URL:https://www.k-is.com/termine/m-sec-simmern/
SUMMARY:M/SEC - Managed Security by K-iS (Simmern)
DESCRIPTION:\n[av_hr class='default' height='50' shadow='no-shadow' positio
 n='center' custom_border='av-border-thin' custom_width='50px' custom_borde
 r_color='' custom_margin_top='30px' custom_margin_bottom='30px' icon_selec
 t='yes' custom_icon_color='' icon='ue808' font='entypo-fontello' admin_pre
 view_bg='']\nM/SEC - Managed Security by K-iS inkl. Grill-Workshop | 28.08
 .2019 | Simmern\nWir können die IT-Welt nicht besser machen\, aber sicher
 er! Unter diesem Motto möchten wir Ihnen mit M/SEC - Managed Security by 
 K-iS einen neuen\, innovativen Service aus dem Bereich der Unternehmenssic
 herheit vorstellen und Sie ganz herzlich zu einer ersten Informationsveran
 staltung in unsere Räumlichkeiten nach Simmern einladen.\nMit M/SEC - Man
 aged Security by K-iS legen Sie Ihre IT-Sicherheit in erfahrene Hände! Eg
 al\, ob es sich um Identitäts- und Zugriffskontrollen\, Schwachstellensca
 ns\, Patch-Management oder Netzwerk-Monitoring handelt\, wir sichern Sie a
 b und tragen so wesentlich zu Ihrer Unternehmens- und Datensicherheit bei.
 \nGemeinsam mit den Herstellern möchten wir Ihnen die vier Servicemodule 
 näher bringen und Sie von dem für Sie entstehenden Mehrwert überzeugen.
  Für Ihr leibliches Wohl ist ebenfalls bestens gesorgt - das Ganze natür
 lich kostenlos. Im Anschluss an die Veranstaltung haben alle Teilnehmer di
 e Möglichkeit\, an einem exklusiven BBQ-Workshop teilzunehmen.\nDa die Pl
 ätze begrenzt sind\, melden Sie sich am besten sofort an.\n&nbsp\;\nUnser
 e Themen:\n&nbsp\;\n\n\n\nLogmanagement (IT-Sicherheit für personenbezoge
 ne Daten und Geschäftsgeheimnisse)\n\nDie Erfassung und Auswertung von Pr
 otokolldaten ist neben dem Backup und der Firewall die dritte Säule Ihrer
  IT- und Datensicherheit. Tagtäglich verarbeiten Ihre Systeme personenbez
 ogene Daten und vertrauliche Geschäftsinformationen. Eine ordentliche Pro
 tokollierung von Datenzugriffen und Veränderungen von Benutzerrechten ist
  heute nicht nur gesetzlich vorgeschrieben\, sondern hilft Ihnen auch dabe
 i\, echtzeitnah auf Datenmissbrauch oder -verlust zu reagieren. Logmanagem
 ent mit auditsicheren Berichtspaketen wird damit zur Notwendigkeit in Ihre
 m Betrieb.\n\nLogmanagement ist keine Kür — sondern Pflicht!\n\nSpeaker
 : Olaf Müller-Haberland\, Netzwerk GmbH\, München\n\n&nbsp\;\n\n\n\nNetz
 werkzugangskontrolle\nmacmon - der deutsche Technologieführer für Ihre N
 etzwerkzugangskontrolle - Seit 2003 bieten wir herstellerunabhängige\, BS
 I-zertifizierte Lösungen\, die heterogene\nNetzwerke dank sofortiger Netz
 werktransparenz vor unberechtigten Zugriffen schützen.\nSpeaker: Sven Sch
 lösinger\, macmon secure gmbh\, Berlin\n\n&nbsp\;\n\n\n\nSchwachstellen-M
 anagement\n„Rapid7 hat schon heute das Schwachstellen-Management der Zuk
 unft umgesetzt.“– The Forrester Wave™: Schwachstellen- und Risikoman
 agement (VRM)\, Q1 2018\nDa moderne Netzwerke sich rasant weiterentwickeln
 \, ändert sich Ihre Gefährdungslage minütlich. Jedes Jahr können Sie b
 eobachten\, wie die Menge der Daten exponentiell wächst\, Angriffe an Kom
 plexität zunehmen und das Eindämmen von Risiken\, sowie die Optimierung 
 Ihrer Geschäftsabläufe immer herausfordernder wird.\n\nInsightVM bietet 
 eine vollständig verfügbare\, skalierbare und effiziente Lösung für da
 s Sammeln von Schwachstellendaten in der IT-Infrastruktur. Mit InsightVM k
 önnen Sie diese Daten zu verwertbaren Antworten zusammenzufassen und Risi
 ken minimieren. Mithilfe modernster Analyse- und Endpunkt-Technologie erla
 ubt InsightVM Ihnen\, Schwachstellen in Echtzeit zu erkennen\, punktgenau 
 einzugrenzen\, ihre Priorität für Ihren Unternehmenskontext zu bestimmen
 \, die Zusammenarbeit mit anderen Teams zu erleichtern und eine Bestätigu
 ng für die Reduzierung Ihrer Bedrohung zu erhalten.\n\nSpeaker: Stefan Ze
 uch\, Rapid7\, München\n\n\nPatchmanagement \nIn 2019 wurden bis jetzt 4
 .222 eindeutige Sicherheitslücken alleine in den Top 50 der meist verwend
 eten Softwareprodukte verifiziert - nahezu alle namhaften Anbieter haben i
 hren festen Platz in dieser wenig ruhmreichen Liste.\nIn unserem Vortrag e
 rfahren Sie\n\n\n 	Wie man durchschnittlich 25 Schwachstellen pro Arbeitst
 ag unter Kontrolle bringt\n 	Wie man nur die funktionierenden Patches frei
 gibt\n 	Wie man auch VMware offline patchen kann\n 	Wie auch Patchmanageme
 nt mehr als nur die Verteilung von Sicherheitsupdates wird\n 	Dass Patchma
 nagement auch ohne Client machbar ist.\n\nExperten gehen inzwischen sogar 
 davon aus\, dass Patmanagement wichtiger ist als Anti-Viren Lösungen. Erf
 ahren Sie alles Wissenswerte zum Thema Patchmanagement!\nSpeaker: Daniel L
 uszczyk\, ProSoft GmbH\, München\n\nM/SEC - Managed Security by K-iS\nMit
  M/SEC stellen wir Ihnen einen neuen Service "Made in Germany" vor\, der U
 nternehmenssicherheit und Risikomanagement der nächsten Generation in den
  Fokus rückt. M/SEC unterstützt bestimmte\, hochsensible Bereiche Ihrer 
 Infrastruktur hinsichtlich Netzwerksicherheit und Monitoring/Reporting nic
 ht reaktiv\, sondern zukunftsweisend proaktiv mit den Produkten von Netzwe
 rk\, macmon\, Rapid7 und Ivanti.\nSpeaker: Carsten Bloemena\, K-iS Systemh
 aus GmbH\, Siegen\n&nbsp\;\nUnd weil Power nicht ohne eine gewisse Energie
 zufuhr möglich ist\, veranstalten wir mit allen Teilnehmern einen exklusi
 ven BBQ Workshop unter der Leitung eines Weber Grillmeisters. Für Sie ist
  das alles natürlich kostenlos.\n&nbsp\;\nAgenda\n\n\n\n\n\n08:45 Uhr\nCh
 eck-In mit Begrüßungssnack\n\n\n09:00 Uhr\nBegrüßung und Vorstellung\n
 \n\n09:15 Uhr\nSecurity Logging ProLog\n\n\n09:45 Uhr\nNetzwerkzugangskont
 rolle mit macmon\n\n\n10:15 Uhr\nKaffeepause\n\n\n10:30 Uhr\nSchwachstelle
 n-Management mit Rapid7\n\n\n11:00 Uhr\nPatchmanagement mit ivanti\n\n\n11
 :30 Uhr\nM/SEC by K-iS - Vorstellung des neuen Service\n\n\nab 12:00 Uhr\n
 BBQ Workshop\n\n\n\n&nbsp\;\n\n&nbsp\;\n\n\n\nAnmeldung\n28.08.2019 | Simm
 ern. Nachstehend finden Sie weitere Informationen\, eine Anfahrtsbeschreib
 ung sowie das Anmeldeformular:\n\nSollten Sie nach erfolgter Anmeldung nic
 ht teilnehmen können\, können Sie bis eine Woche vor Veranstaltungsbegin
 n kostenfrei stornieren. Danach müssen wir eine No-Show-Gebühr in Höhe 
 von 45\,00 € erheben.
CATEGORIES:Events
LOCATION:K-iS Systemhaus GmbH Simmern\, Von-Drais-Straße 13\, Simmern/Huns
 rück\, Rheinland-Pfalz\, 55469\, Deutschland
GEO:49.98884;7.544329999999945
X-APPLE-STRUCTURED-LOCATION;VALUE=URI;X-ADDRESS=Von-Drais-Straße 13\, Simm
 ern/Hunsrück\, Rheinland-Pfalz\, 55469\, Deutschland;X-APPLE-RADIUS=100;X
 -TITLE=K-iS Systemhaus GmbH Simmern:geo:49.98884,7.544329999999945
END:VEVENT
BEGIN:VTIMEZONE
TZID:Europe/Berlin
X-LIC-LOCATION:Europe/Berlin
BEGIN:DAYLIGHT
DTSTART:20190331T030000
TZOFFSETFROM:+0100
TZOFFSETTO:+0200
TZNAME:CEST
END:DAYLIGHT
END:VTIMEZONE
END:VCALENDAR