BEGIN:VCALENDAR
VERSION:2.0
PRODID:-//wp-events-plugin.com//7.2.3.1//EN
TZID:Europe/Berlin
X-WR-TIMEZONE:Europe/Berlin
BEGIN:VEVENT
UID:6@k-is.com
DTSTART;TZID=Europe/Berlin:20180614T110000
DTEND;TZID=Europe/Berlin:20180614T120000
DTSTAMP:20180509T120402Z
URL:https://www.k-is.com/termine/kostenloses-steadyprint-webinar/
SUMMARY:Kostenloses steadyPRINT-Webinar
DESCRIPTION:\nsteadyPRINT Webinar | 14.06.2018\n[av_hr class='default' heig
 ht='50' shadow='no-shadow' position='center' custom_border='av-border-thin
 ' custom_width='50px' custom_border_color='' custom_margin_top='30px' cust
 om_margin_bottom='30px' icon_select='yes' custom_icon_color='' icon='ue808
 ' font='entypo-fontello' admin_preview_bg='']\n\n[av_one_half first]\n\nst
 eadyPRINT: Das Rundum-sorglos-Paket für Druckeradmins\nsteadyPRINT ist ei
 ne softwarebasierte Lösung für die komplette Administration Ihrer Drucku
 mgebung: Verwaltung der Druckerverbindungen\, Monitoring/Reporting und Inv
 entarisierung der Druckumgebung sowie Migration und Ausfallsicherheit der 
 Druckserver. Egal\, ob Sie mit Workstations\, Thin Clients (betriebssystem
 unabhängig) oder Terminalserver-Umgebungen (Microsoft oder Citrix) arbeit
 en. Sie benötigen weder zusätzliche Hardware noch Lizenzen.\nWir zeigen 
 Ihnen die Vorzüge der Software (inkl. Präsentation der aktuellen Version
 !)\n\nDas Webinar wird über GoToWebinar durchgeführt\, den Link zur Anme
 ldung finden Sie hier! \n[/av_one_half][av_one_half]\n\n[av_toggle_contain
 er initial='0' mode='accordion' sort='' styling='av-minimal-toggle' colors
 ='custom' font_color='#666666' background_color='#ffffff' border_color='#f
 fffff']\n[av_toggle title='Themen' tags='']\n\nWarum steadyPRINT? \nZentra
 le Verwaltung\nTreiberloses Drucken\nMonitoring & Reporting \nAusfallsiche
 rheit \nMigration\nDruckerverwaltung für User \nWas ist neu in der aktuel
 len Version? \nAusblick: Roadmap\nPreise & Lizenzierung \n\n[/av_toggle]\n
 [/av_toggle_container][/av_one_half]
CATEGORIES:Webinare
END:VEVENT
BEGIN:VTIMEZONE
TZID:Europe/Berlin
X-LIC-LOCATION:Europe/Berlin
BEGIN:DAYLIGHT
DTSTART:20180325T030000
TZOFFSETFROM:+0100
TZOFFSETTO:+0200
TZNAME:CEST
END:DAYLIGHT
END:VTIMEZONE
END:VCALENDAR