BEGIN:VCALENDAR
VERSION:2.0
PRODID:-//wp-events-plugin.com//7.2.3.1//EN
TZID:Europe/Berlin
X-WR-TIMEZONE:Europe/Berlin
BEGIN:VEVENT
UID:17@k-is.com
DTSTART;TZID=Europe/Berlin:20180612T083000
DTEND;TZID=Europe/Berlin:20180612T153000
DTSTAMP:20180731T081110Z
URL:https://www.k-is.com/termine/it-security-roadshow-zuerich/
SUMMARY:IT Security Roadshow Zürich
DESCRIPTION:\nIT Security Roadshow Zürich | 12.06.2018 | Zürich\n[av_hr c
 lass='default' height='50' shadow='no-shadow' position='center' custom_bor
 der='av-border-thin' custom_width='50px' custom_border_color='' custom_mar
 gin_top='30px' custom_margin_bottom='30px' icon_select='yes' custom_icon_c
 olor='' icon='ue808' font='entypo-fontello' admin_preview_bg='']\n\nIT Sec
 urity Roadshow Zürich\nAm 12. Juni 2018 findet unser diesjähriges IT Sec
 urity Event in Zürich statt (Location wird noch bekannt gegeben!). Erfahr
 en Sie von renommierten Herstellern alles über Synchronized Security\, Me
 hr-Faktor-Authentifizierung\, Network Access Control und Schwachstellenana
 lysen in Ihrem Unternehmen. Für das leibliche Wohl ist bestens gesorgt - 
 all dies natürlich kostenlos. Melden Sie sich jetzt an!\n\n\n\n\n\nThemen
 \n\n\n\n\n\n\nSophos - Synchronized Security für erhöhte IT-Sicherheit\n
 \nIT-Sicherheit steht zur Zeit an einem Scheideweg. Das zeigen die immer h
 äufigeren Schlagzeilen über groß angelegte Cyberattacken oder die Disku
 ssion über Sinn und Unsinn von dedizierten Antivirus-Programmen. Die Antw
 ort auf diese Problematik ist nicht die Holzhammermethode\, sondern Innova
 tion: Manchmal können kleine Veränderungen Großes bewirken. So zum Beis
 piel der Sophos Security Heartbeat\, der durch eine innovative Verbindung 
 zwischen Endpoints und Firewall den Austausch wichtiger Detailinformatione
 n ermöglicht und IT-Sicherheit auf diese Weise komplett neu definiert.\n\
 nSophos realisiert mit „Synchronized Security“ ein völlig neues Konze
 pt\, das verschiedene Endpoint- und Netzwerk-Sicherheitslösungen integrie
 rt und automatisiert. Das bedeutet für Sie nicht nur eine erhöhte Sicher
 heit\, sondern auch wirtschaftliche Vorteile. Wie Sie sich diese sichern k
 önnen\, erfahren Sie in unserem Vortrag live und exklusiv!\n\nSpeaker: Di
 eter Huber\, Sophos Channel Account Executive\n\nSecurEnvoy - IT-Security 
 und Authentifizierung im Zeitalter der Digitalen Transformation\n\nDie Ges
 chäftswelt wird immer digitaler und vernetzter\, der Aspekt Sicherheit da
 durch immer wichtiger. Die Absicherung Ihrer Unternehmensplattformen ist i
 m Zeitalter der Digitalen Transformation deswegen wichtiger denn je! Welch
 en Beitrag Multi-Faktor-Authentifizierung zur Sicherheit Ihrer cloudbasier
 ten Applikationen leisten kann\, erfahren Sie in diesem Vortrag.\n\nSpeake
 r: Fabian Guter\, Business Development Manager EMEA (SecurEnvoy)\n\n\n\nRa
 pid7 - Lügen für die Wahrheit (Schwachstellenanalysen &amp\; Penetration
 stest)\n\nWie Rapid7 wie ein Hacker denkt\, um diesen das Handwerk zu lege
 n. Unsere Gebiet ist unter anderem das Penetration Testing und das Applica
 tion Scanning. Wir wissen also genau\, wie die Hacker heutzutage in System
 e eindringen und somit auch\, wie man ungewollte Machenschaften im Netzwer
 k erkennt und aufdeckt.\n\nSpeaker: Christoph Brecht\, Channel Manager DAC
 H (Rapid7)\n\n\n\n\nmacmon NAC - Intelligent einfach das Netzwerk sichern.
 \n\nMit macmon Network Access Control wissen Sie jederzeit\, welche Gerät
 e sich in Ihrem Netzwerk befinden und können Ihre eingesetzten PCs\, Druc
 ker\, Laptops\, medizinischen und technischen Geräte jederzeit effizient 
 überwachen und vor unbefugten Zugriffen schützen. Gast- und Mitarbeiterg
 eräte (BYOD) können über das Gästeportal\, mithilfe eines dynamischen 
 Managements der Netzwerksegmente\, einfach und sicher zugelassen werden.\n
 \nmacmon NAC ermöglicht Ihnen neben sofortiger Netzwerktransparenz für L
 AN und WLAN auch die Einhaltung aktuell gültiger IT-Sicherheitsstandards 
 (u.a. DIN ISO 27001). Die Software kann innerhalb eines Tages und ohne Ver
 änderungen Ihrer bestehenden Infrastrukturen implementiert werden. Unsere
  Kunden kommen aus diversen Branchen und reichen von mittelständischen Fi
 rmen bis hin zu großen internationalen Konzernen. Unser Anspruch: Jedem U
 nternehmen eine flexible und effiziente NAC-Lösung anzubieten\, die mit g
 eringem Aufwand\, aber erheblichem Mehrwert für Ihre Netzwerksicherheit i
 mplementiert werden kann. Mit einem erfahrenen Team aus Entwicklern und er
 stklassigem Support in Deutschland\, stehen wir Ihnen als kompetenter Part
 ner zur Seite.\n\nSpeaker: Cédric Pielsticker\, Partner Manager (macmon s
 ecure GmbH)\n\n\nAgenda\n\n\n\n08:30 Uhr\nCheck-In mit Begrüßungssnack\n
 \n\n08:45 Uhr\nBegrüßung und Vorstellung\n\n\n09:00 Uhr\nSophos - Synchr
 onized Security für erhöhte IT-Sicherheit\n\n\n10:00 Uhr\nSecurEnvoy - I
 T-Security und Authentifizierung im Zeitalter der Digitalen Transformation
 \n\n\n11:15 Uhr\nKaffeepause\n\n\n11:30 Uhr\nRapid7 - Lügen für die Wahr
 heit (Schwachstellenanalysen &amp\; Penetrationstest) \n\n\n12:30 Uhr\nGem
 einsames Mittagessen\n\n\n13:30 Uhr\nLive-Hacking "Die Hacker kommen"\n\n\
 n14:30 Uhr\nmacmon NAC - Intelligent einfach das Netzwerk sichern\n\n\nca.
  15:30 Uhr\nEnde der Veranstaltung\n\n\n\n&nbsp\;\n\n\n\n\n\n\n\nLive-Hack
 ing\n\n\n\n\nErfahren Sie in unserem Live Hacking  die ganze Wahrheit rund
  um die Gefahren\, die die tägliche Nutzung von Computern und anderer IT-
 Systeme mit sich bringen und von denen jedes Unternehmen betroffen ist.\n\
 nAuf eindrucksvolle und unterhaltsame Weise führt das Team von Alexander 
 Maas vor\, wie Angriffe funktionieren und wie Sie angemessen darauf reagir
 eren können.\n\n\n\n\nAnmeldung\n\n\n\n\nNachstehend finden Sie weitere I
 nformationen\, eine Anfahrtsbeschreibung sowie das Anmeldeformular:\n\n 	1
 2.06.2018 | Zürich\n\nSollten Sie nach erfolgter Anmeldung nicht teilnehm
 en können\, können Sie bis eine Woche vor Veranstaltungsbeginn kostenfre
 i stornieren. Danach müssen wir eine No-Show-Gebühr in Höhe von 45\,00 
 CHF erheben.
CATEGORIES:Events
LOCATION:K-iS Systemhaus GmbH\, Eichlitte 7\, Gams\, St. Gallen\, 9473\, Sc
 hweiz
GEO:47.2067369;9.429998699999942
X-APPLE-STRUCTURED-LOCATION;VALUE=URI;X-ADDRESS=Eichlitte 7\, Gams\, St. Ga
 llen\, 9473\, Schweiz;X-APPLE-RADIUS=100;X-TITLE=K-iS Systemhaus GmbH:geo:
 47.2067369,9.429998699999942
END:VEVENT
BEGIN:VTIMEZONE
TZID:Europe/Berlin
X-LIC-LOCATION:Europe/Berlin
BEGIN:DAYLIGHT
DTSTART:20180325T030000
TZOFFSETFROM:+0100
TZOFFSETTO:+0200
TZNAME:CEST
END:DAYLIGHT
END:VTIMEZONE
END:VCALENDAR